BEGIN:VCALENDAR
VERSION:2.0
PRODID:-//Working In Neighborhoods - ECPv6.15.20//NONSGML v1.0//EN
CALSCALE:GREGORIAN
METHOD:PUBLISH
X-ORIGINAL-URL:https://wincincy.org
X-WR-CALDESC:Events for Working In Neighborhoods
REFRESH-INTERVAL;VALUE=DURATION:PT1H
X-Robots-Tag:noindex
X-PUBLISHED-TTL:PT1H
BEGIN:VTIMEZONE
TZID:America/New_York
BEGIN:DAYLIGHT
TZOFFSETFROM:-0500
TZOFFSETTO:-0400
TZNAME:EDT
DTSTART:20240310T070000
END:DAYLIGHT
BEGIN:STANDARD
TZOFFSETFROM:-0400
TZOFFSETTO:-0500
TZNAME:EST
DTSTART:20241103T060000
END:STANDARD
BEGIN:DAYLIGHT
TZOFFSETFROM:-0500
TZOFFSETTO:-0400
TZNAME:EDT
DTSTART:20250309T070000
END:DAYLIGHT
BEGIN:STANDARD
TZOFFSETFROM:-0400
TZOFFSETTO:-0500
TZNAME:EST
DTSTART:20251102T060000
END:STANDARD
BEGIN:DAYLIGHT
TZOFFSETFROM:-0500
TZOFFSETTO:-0400
TZNAME:EDT
DTSTART:20260308T070000
END:DAYLIGHT
BEGIN:STANDARD
TZOFFSETFROM:-0400
TZOFFSETTO:-0500
TZNAME:EST
DTSTART:20261101T060000
END:STANDARD
END:VTIMEZONE
BEGIN:VEVENT
DTSTART;TZID=America/New_York:20251030T163000
DTEND;TZID=America/New_York:20251030T190000
DTSTAMP:20260419T110024
CREATED:20250414T161128Z
LAST-MODIFIED:20250915T201425Z
UID:10000343-1761841800-1761850800@wincincy.org
SUMMARY:WIN 2025 Hall of Fame - The Homes That Hope Built: Building Futures
DESCRIPTION:Join us at WIN’s 2025 Hall of Fame on Thursday\, October 30\, to honor those who have made significant strides in strengthening our community. This year\, we’ll be inducting the John R. Jurgensen Company and Bobby Maly\, CEO of The Model Group\, into WIN’s Hall of Fame. \nBUY YOUR TICKET \nMORE INFORMATION
URL:https://wincincy.org/event/win-2025-hall-of-fame/
LOCATION:Hyatt Regency\, 151 W 5th St\, Cincinnati\, OH\, 45202\, United States
CATEGORIES:WIN Hall of Fame
END:VEVENT
END:VCALENDAR